BEGIN:VCALENDAR
VERSION:2.0
PRODID:-//Tiger Team - ECPv6.15.6//NONSGML v1.0//EN
CALSCALE:GREGORIAN
METHOD:PUBLISH
X-WR-CALNAME:Tiger Team
X-ORIGINAL-URL:https://tigerteam.cz
X-WR-CALDESC:Akce na Tiger Team
REFRESH-INTERVAL;VALUE=DURATION:PT1H
X-Robots-Tag:noindex
X-PUBLISHED-TTL:PT1H
BEGIN:VTIMEZONE
TZID:UTC
BEGIN:STANDARD
TZOFFSETFROM:+0000
TZOFFSETTO:+0000
TZNAME:UTC
DTSTART:20240101T000000
END:STANDARD
END:VTIMEZONE
BEGIN:VEVENT
DTSTART;VALUE=DATE:20251128
DTEND;VALUE=DATE:20251201
DTSTAMP:20260426T034804
CREATED:20250831T192418Z
LAST-MODIFIED:20250831T192418Z
UID:1149-1764288000-1764547199@tigerteam.cz
SUMMARY:Dětská podzimní výprava
DESCRIPTION:Info bude brzy dopřesněno. \nMůžete se těšit na další skvělou výpravu
URL:https://tigerteam.cz/event/detska-podzimni-vyprava
END:VEVENT
BEGIN:VEVENT
DTSTART;TZID=UTC:20251108T100000
DTEND;TZID=UTC:20251108T120000
DTSTAMP:20260426T034804
CREATED:20250831T192115Z
LAST-MODIFIED:20250831T192115Z
UID:1145-1762596000-1762603200@tigerteam.cz
SUMMARY:Proužkovací seminář Nage Waza
DESCRIPTION:V sobotu 8:11. proběhne v Tělocvičně na Pankráci jeden z mnoha proužkovacích seminářů. Tentokrát červený proužek!\n\n \n\nMísto: Tělocvična Tiger Team Praha\n\n \n\nČas: 10.00 – 12:00\n\n \n\nRegistrace nutná online!\n\n \n\nProužkovací semináře jsou rozvrženy v roce tak\, aby každou jednu sobotu v měsíci mohly děti získat buď modrý\, bílý nebo červený proužek. Tyto proužky získávají za určité dovednosti.\n\n \n\nModrý proužek – úderové techniky a kopy\, zbraně a boj na zemi – Atemi a Ne Waza\n\n \n\nBílý proužek – pákové techniky – Kansetsu Waza\n\n \n\nČervený proužek – hodové techniky – Nage Waza\n\n \n\nPokud děti získají všechny tyto 3 barevné proužky\, chybí jim už jen získat černý proužek\, který my trenéři dáváme v průběhu jakéhokoliv tréninku zcela individuálně\, a to už třeba za vyjímečně velkou šikovnost\, motivaci nebo dobré chování. Tento proužek také rádi sundaváme za špatné chování.\n\n \n\nPokud má dítě všechny 3 barevné a 1 černý proužek\, smí dělat zkoušky na vyšší technický stupeň.\n\n \n\nČasto se stává\, že už chybí jen ten černý proužek a zkoušky se blíži. V takovém případě dáváme tento proužek jako takový souhlas\, že dítě je opravdu připraveno na další zkoušky jít a zkusit získat vyšší technický stupeň.\n\n \n\nZkoušky se konají vždy 2x ročně. V lednu a v létě na dětském letním táboře.
URL:https://tigerteam.cz/event/prouzkovaci-seminar-nage-waza
LOCATION:Tiger Team Pankrác\, V Občanském domově 2A\, Praha\, 14000\, Czech Republic
END:VEVENT
BEGIN:VEVENT
DTSTART;VALUE=DATE:20251018
DTEND;VALUE=DATE:20251019
DTSTAMP:20260426T034804
CREATED:20250831T190653Z
LAST-MODIFIED:20250831T190653Z
UID:1135-1760745600-1760831999@tigerteam.cz
SUMMARY:Závody Fighting Jiu-jitsu Chodov (Karlovy Vary)
DESCRIPTION:V říjnu se s dětmi zúčastníme závodů ve Fightingu. Více info u trenérů. \nPřípadně na https://www.allkampf-jitsu.cz/kalendar/kalendar.php
URL:https://tigerteam.cz/event/zavody-fighting-jiu-jitsu-chodov-karlovy-vary
LOCATION:Chodov Karlovy Vary
END:VEVENT
BEGIN:VEVENT
DTSTART;VALUE=DATE:20251017
DTEND;VALUE=DATE:20251019
DTSTAMP:20260426T034804
CREATED:20250831T191452Z
LAST-MODIFIED:20250831T191452Z
UID:1138-1760659200-1760831999@tigerteam.cz
SUMMARY:Jiu-Jitsu a BJJ seminář v Trenčíne (Peter Svat a Leszek Jaremkowski)
DESCRIPTION:Výjezd do Trenčína na seminář klasického a brazilského jiu-jitsu! \nVíce info u trenérů!
URL:https://tigerteam.cz/event/jiu-jitsu-a-bjj-seminar-v-trencine-peter-svat-a-leszek-jaremkowski
LOCATION:Trenčín\, Športovná hala Dukla Gen. M. R. Štefánika 394\, Trenčín\, 91101\, Slovakia (Slovak Republic)
END:VEVENT
BEGIN:VEVENT
DTSTART;TZID=UTC:20251011T100000
DTEND;TZID=UTC:20251011T120000
DTSTAMP:20260426T034804
CREATED:20250831T185844Z
LAST-MODIFIED:20250831T200416Z
UID:1129-1760176800-1760184000@tigerteam.cz
SUMMARY:Proužkovací seminář Kansetsu Waza
DESCRIPTION:V sobotu 11.10. proběhne v Tělocvičně na Pankráci jeden z mnoha proužkovacích seminářů. Tentokrát bílý proužek! \n\n\n\n  \n\n\n\nRegistrace nutná online! \n\n\n\nProužkovací semináře jsou rozvrženy v roce tak\, aby každou jednu sobotu v měsíci mohly děti získat buď modrý\, bílý nebo červený proužek. Tyto proužky získávají za určité dovednosti. \n\n\n\nModrý proužek – úderové techniky a kopy\, zbraně a boj na zemi – Atemi a Ne Waza \n\n\n\nBílý proužek – pákové techniky – Kansetsu Waza \n\n\n\nČervený proužek – hodové techniky – Nage Waza \n\n\n\nPokud děti získají všechny tyto 3 barevné proužky\, chybí jim už jen získat černý proužek\, který my trenéři dáváme v průběhu jakéhokoliv tréninku zcela individuálně\, a to už třeba za vyjímečně velkou šikovnost\, motivaci nebo dobré chování. Tento proužek také rádi sundaváme za špatné chování. \n\n\n\nPokud má dítě všechny 3 barevné a 1 černý proužek\, smí dělat zkoušky na vyšší technický stupeň. \n\n\n\nČasto se stává\, že už chybí jen ten černý proužek a zkoušky se blíži. V takovém případě dáváme tento proužek jako takový souhlas\, že dítě je opravdu připraveno na další zkoušky jít a zkusit získat vyšší technický stupeň. \n\n\n\nZkoušky se konají vždy 2x ročně. V lednu a v létě na dětském letním táboře.
URL:https://tigerteam.cz/event/prouzkovaci-seminar-kansetsu-waza
LOCATION:Tiger Team Pankrác\, V Občanském domově 2A\, Praha\, 14000\, Czech Republic
CATEGORIES:Proužkovací semináře
END:VEVENT
BEGIN:VEVENT
DTSTART;TZID=UTC:20250927T100000
DTEND;TZID=UTC:20250927T120000
DTSTAMP:20260426T034804
CREATED:20250830T171435Z
LAST-MODIFIED:20250831T200409Z
UID:1118-1758967200-1758974400@tigerteam.cz
SUMMARY:Proužkovací seminář Atemi a Ne Waza
DESCRIPTION:V sobotu 27.9. proběhne v Tělocvičně na Pankráci jeden z mnoha proužkovacích seminářů. Tentokrát modrý proužek! \n\n\n\nMísto: Tělocvična Tiger Team Praha \n\n\n\nČas: 10:00 – 12:00 \n\n\n\nRegistrace nutná online!  \n\n\n\nProužkovací semináře jsou rozvrženy v roce tak\, aby každou jednu sobotu v měsíci mohly děti získat buď modrý\, bílý nebo červený proužek. Tyto proužky získávají za určité dovednosti. \n\n\n\nModrý proužek – úderové techniky a kopy\, zbraně a boj na zemi – Atemi a Ne Waza \n\n\n\nBílý proužek – pákové techniky – Kansetsu Waza \n\n\n\nČervený proužek – hodové techniky – Nage Waza \n\n\n\nPokud děti získají všechny tyto 3 barevné proužky\, chybí jim už jen získat černý proužek\, který my trenéři dáváme v průběhu jakéhokoliv tréninku zcela individuálně\, a to už třeba za vyjímečně velkou šikovnost\, motivaci nebo dobré chování. Tento proužek také rádi sundaváme za špatné chování. \n\n\n\nPokud má dítě všechny 3 barevné a 1 černý proužek\, smí dělat zkoušky na vyšší technický stupeň. \n\n\n\nČasto se stává\, že už chybí jen ten černý proužek a zkoušky se blíži. V takovém případě dáváme tento proužek jako takový souhlas\, že dítě je opravdu připraveno na další zkoušky jít a zkusit získat vyšší technický stupeň. \n\n\n\nZkoušky se konají vždy 2x ročně. V lednu a v létě na dětském letním táboře.
URL:https://tigerteam.cz/event/prouzkovaci-seminar-atemi-a-ne-waza
LOCATION:Tiger Team Pankrác\, V Občanském domově 2A\, Praha\, 14000\, Czech Republic
CATEGORIES:Proužkovací semináře
END:VEVENT
END:VCALENDAR