BEGIN:VCALENDAR
VERSION:2.0
PRODID:-//Tiger Team - ECPv6.15.6//NONSGML v1.0//EN
CALSCALE:GREGORIAN
METHOD:PUBLISH
X-ORIGINAL-URL:https://tigerteam.cz
X-WR-CALDESC:Akce na Tiger Team
REFRESH-INTERVAL;VALUE=DURATION:PT1H
X-Robots-Tag:noindex
X-PUBLISHED-TTL:PT1H
BEGIN:VTIMEZONE
TZID:UTC
BEGIN:STANDARD
TZOFFSETFROM:+0000
TZOFFSETTO:+0000
TZNAME:UTC
DTSTART:20240101T000000
END:STANDARD
END:VTIMEZONE
BEGIN:VEVENT
DTSTART;TZID=UTC:20251108T100000
DTEND;TZID=UTC:20251108T120000
DTSTAMP:20260426T034444
CREATED:20250831T192115Z
LAST-MODIFIED:20250831T192115Z
UID:1145-1762596000-1762603200@tigerteam.cz
SUMMARY:Proužkovací seminář Nage Waza
DESCRIPTION:V sobotu 8:11. proběhne v Tělocvičně na Pankráci jeden z mnoha proužkovacích seminářů. Tentokrát červený proužek!\n\n \n\nMísto: Tělocvična Tiger Team Praha\n\n \n\nČas: 10.00 – 12:00\n\n \n\nRegistrace nutná online!\n\n \n\nProužkovací semináře jsou rozvrženy v roce tak\, aby každou jednu sobotu v měsíci mohly děti získat buď modrý\, bílý nebo červený proužek. Tyto proužky získávají za určité dovednosti.\n\n \n\nModrý proužek – úderové techniky a kopy\, zbraně a boj na zemi – Atemi a Ne Waza\n\n \n\nBílý proužek – pákové techniky – Kansetsu Waza\n\n \n\nČervený proužek – hodové techniky – Nage Waza\n\n \n\nPokud děti získají všechny tyto 3 barevné proužky\, chybí jim už jen získat černý proužek\, který my trenéři dáváme v průběhu jakéhokoliv tréninku zcela individuálně\, a to už třeba za vyjímečně velkou šikovnost\, motivaci nebo dobré chování. Tento proužek také rádi sundaváme za špatné chování.\n\n \n\nPokud má dítě všechny 3 barevné a 1 černý proužek\, smí dělat zkoušky na vyšší technický stupeň.\n\n \n\nČasto se stává\, že už chybí jen ten černý proužek a zkoušky se blíži. V takovém případě dáváme tento proužek jako takový souhlas\, že dítě je opravdu připraveno na další zkoušky jít a zkusit získat vyšší technický stupeň.\n\n \n\nZkoušky se konají vždy 2x ročně. V lednu a v létě na dětském letním táboře.
URL:https://tigerteam.cz/event/prouzkovaci-seminar-nage-waza
LOCATION:Tiger Team Pankrác\, V Občanském domově 2A\, Praha\, 14000\, Czech Republic
END:VEVENT
BEGIN:VEVENT
DTSTART;VALUE=DATE:20251128
DTEND;VALUE=DATE:20251201
DTSTAMP:20260426T034444
CREATED:20250831T192418Z
LAST-MODIFIED:20250831T192418Z
UID:1149-1764288000-1764547199@tigerteam.cz
SUMMARY:Dětská podzimní výprava
DESCRIPTION:Info bude brzy dopřesněno. \nMůžete se těšit na další skvělou výpravu
URL:https://tigerteam.cz/event/detska-podzimni-vyprava
END:VEVENT
BEGIN:VEVENT
DTSTART;VALUE=DATE:20251212
DTEND;VALUE=DATE:20251213
DTSTAMP:20260426T034444
CREATED:20250831T192622Z
LAST-MODIFIED:20250831T200222Z
UID:1151-1765497600-1765583999@tigerteam.cz
SUMMARY:Vánoční přespání pro děti
DESCRIPTION:Každé Vánoce pořádáme přespání v tělocvičně pro děti v kostýmech. \nVíce info a letošní téma kostýmů se dozvíte brzy!
URL:https://tigerteam.cz/event/vanocni-prespani-pro-deti
LOCATION:Tiger Team Pankrác\, V Občanském domově 2A\, Praha\, 14000\, Czech Republic
END:VEVENT
BEGIN:VEVENT
DTSTART;VALUE=DATE:20260709
DTEND;VALUE=DATE:20260713
DTSTAMP:20260426T034444
CREATED:20250831T193710Z
LAST-MODIFIED:20250831T193710Z
UID:1155-1783555200-1783900799@tigerteam.cz
SUMMARY:Tiger Summer Camp Kácov 2026
DESCRIPTION:Zamluv si tento termín na nejlepší čtyřdenní soustředění s Tiger Teamem! \nTěšit se můžeš na plno tréninků pod vedením našich i zahraničních instruktorů. \nSkupiny Jiu-Jitsu\, Kickboxu\, BJJ a MMA \nPro všechny cvičence od 15 let! \nVíce info už brzy!
URL:https://tigerteam.cz/event/tiger-summer-camp-kacov-2026
LOCATION:Sport Hotel Kácov\, Sport Hotel Kácov\, Kácov\, 285 09\, Czech Republic
END:VEVENT
BEGIN:VEVENT
DTSTART;VALUE=DATE:20260712
DTEND;VALUE=DATE:20260719
DTSTAMP:20260426T034444
CREATED:20250831T193956Z
LAST-MODIFIED:20250831T193956Z
UID:1158-1783814400-1784419199@tigerteam.cz
SUMMARY:Tiger Dětský Letní Kemp Kácov 2026
DESCRIPTION:Týdenní dětský letní kemp opět v krásném Kácově obklopen přírodou. \nVíce info už brzy!
URL:https://tigerteam.cz/event/tiger-detsky-letni-kemp-kacov-2026
END:VEVENT
END:VCALENDAR